BEGIN:VCALENDAR
VERSION:2.0
PRODID:-//Insight Community of the Desert - ECPv6.15.20//NONSGML v1.0//EN
CALSCALE:GREGORIAN
METHOD:PUBLISH
X-ORIGINAL-URL:https://desertinsight.org
X-WR-CALDESC:Events for Insight Community of the Desert
REFRESH-INTERVAL;VALUE=DURATION:PT1H
X-Robots-Tag:noindex
X-PUBLISHED-TTL:PT1H
BEGIN:VTIMEZONE
TZID:America/Los_Angeles
BEGIN:DAYLIGHT
TZOFFSETFROM:-0800
TZOFFSETTO:-0700
TZNAME:PDT
DTSTART:20240310T100000
END:DAYLIGHT
BEGIN:STANDARD
TZOFFSETFROM:-0700
TZOFFSETTO:-0800
TZNAME:PST
DTSTART:20241103T090000
END:STANDARD
BEGIN:DAYLIGHT
TZOFFSETFROM:-0800
TZOFFSETTO:-0700
TZNAME:PDT
DTSTART:20250309T100000
END:DAYLIGHT
BEGIN:STANDARD
TZOFFSETFROM:-0700
TZOFFSETTO:-0800
TZNAME:PST
DTSTART:20251102T090000
END:STANDARD
BEGIN:DAYLIGHT
TZOFFSETFROM:-0800
TZOFFSETTO:-0700
TZNAME:PDT
DTSTART:20260308T100000
END:DAYLIGHT
BEGIN:STANDARD
TZOFFSETFROM:-0700
TZOFFSETTO:-0800
TZNAME:PST
DTSTART:20261101T090000
END:STANDARD
END:VTIMEZONE
BEGIN:VEVENT
DTSTART;TZID=America/Los_Angeles:20250706T103000
DTEND;TZID=America/Los_Angeles:20250706T120000
DTSTAMP:20260419T162125
CREATED:20250704T203556Z
LAST-MODIFIED:20250713T212730Z
UID:10003098-1751797800-1751803200@desertinsight.org
SUMMARY:Meditation and Dharma Talk with Jokai Blackwell - IN-PERSON & ONLINE
DESCRIPTION:This Sunday Meditation and Dharma Talk will be held from 10:30 a.m. until noon **In-Person at the Mizell Center** and simultaneously live *Online via Zoom*. Everyone is welcome. \nThere will be time for meditation\, a dharma (teaching) talk by one of our regular or guest teachers\, and time for your comments and questions. \nAbout the Teacher: Jokai Blackwell \nDana \nCost: Donation basis. There is no charge to attend the Sunday Meditation and Dharma Talk. Please consider making a donation at desertinsight.org to support our teachers and community. Please give from your ability and heart. \nDirections to the Sunday In-Person Sit: \nMizell Center\, 480 S Sunrise Way\, Palm Springs\, CA 92262 \nGoogle Maps \nJoin Zoom Meetinghttps://us02web.zoom.us/j/81581516374?pwd=ck05SElLelNLeU80ek44UnZuQjhsZz09Meeting ID: 815 8151 6374Passcode: ICDOne tap mobile+16694449171\,\,81581516374# US+16699009128\,\,81581516374# US (San Jose)Dial by your location        +1 669 444 9171 US        +1 669 900 9128 US (San Jose)        +1 346 248 7799 US (Houston)        +1 719 359 4580 US        +1 253 205 0468 US        +1 253 215 8782 US (Tacoma)        +1 386 347 5053 US        +1 507 473 4847 US        +1 564 217 2000 US        +1 646 558 8656 US (New York)        +1 646 931 3860 US        +1 689 278 1000 US        +1 301 715 8592 US (Washington DC)        +1 305 224 1968 US        +1 309 205 3325 US        +1 312 626 6799 US (Chicago)        +1 360 209 5623 USMeeting ID: 815 8151 6374
URL:https://desertinsight.org/event/meditation-and-dharma-talk-2025-07-06/
LOCATION:Mizell Center\, 480 S. Sunrise Way\, Palm Springs\, CA\, 92262\, United States
CATEGORIES:Featured,Recurring,Regular Events,Sundays
ATTACH;FMTTYPE=image/jpeg:https://desertinsight.org/wp-content/uploads/2025/07/pexels-magda-ehlers-Jokai-July6.jpg
ORGANIZER;CN="Board of Directors":MAILTO:info@desertinsight.org
GEO:33.8163206;-116.5275763
X-APPLE-STRUCTURED-LOCATION;VALUE=URI;X-ADDRESS=Mizell Center 480 S. Sunrise Way Palm Springs CA 92262 United States;X-APPLE-RADIUS=500;X-TITLE=480 S. Sunrise Way:geo:-116.5275763,33.8163206
END:VEVENT
BEGIN:VEVENT
DTSTART;TZID=America/Los_Angeles:20250713T103000
DTEND;TZID=America/Los_Angeles:20250713T120000
DTSTAMP:20260419T162125
CREATED:20250713T213731Z
LAST-MODIFIED:20250713T213731Z
UID:10003101-1752402600-1752408000@desertinsight.org
SUMMARY:Meditation and Dharma Talk with Mary Stancavage - IN-PERSON & ONLINE
DESCRIPTION:This Sunday Meditation and Dharma Talk will be held from 10:30 a.m. until noon **In-Person at the Mizell Center** and simultaneously live *Online via Zoom*. Note that this is a NEW TIME. Everyone is welcome. \nThere will be time for meditation\, a dharma (teaching) talk by one of our regular or guest teachers\, and time for your comments and questions. \nAbout the Teacher: Mary Stancavage \nDana \nCost: Donation basis. There is no charge to attend the Sunday Meditation and Dharma Talk. Please consider making a donation at desertinsight.org to support our teachers and community. Please give from your ability and heart. \nDirections to the Sunday In-Person Sit: \nMizell Center\, 480 S Sunrise Way\, Palm Springs\, CA 92262 \nGoogle Maps \nJoin Zoom Meetinghttps://us02web.zoom.us/j/81581516374?pwd=ck05SElLelNLeU80ek44UnZuQjhsZz09Meeting ID: 815 8151 6374Passcode: ICDOne tap mobile+16694449171\,\,81581516374# US+16699009128\,\,81581516374# US (San Jose)Dial by your location        +1 669 444 9171 US        +1 669 900 9128 US (San Jose)        +1 346 248 7799 US (Houston)        +1 719 359 4580 US        +1 253 205 0468 US        +1 253 215 8782 US (Tacoma)        +1 386 347 5053 US        +1 507 473 4847 US        +1 564 217 2000 US        +1 646 558 8656 US (New York)        +1 646 931 3860 US        +1 689 278 1000 US        +1 301 715 8592 US (Washington DC)        +1 305 224 1968 US        +1 309 205 3325 US        +1 312 626 6799 US (Chicago)        +1 360 209 5623 USMeeting ID: 815 8151 6374
URL:https://desertinsight.org/event/meditation-and-dharma-talk-2025-07-13/
LOCATION:Mizell Center\, 480 S. Sunrise Way\, Palm Springs\, CA\, 92262\, United States
CATEGORIES:Featured,Recurring,Regular Events,Sundays
ATTACH;FMTTYPE=image/jpeg:https://desertinsight.org/wp-content/uploads/2025/07/BlueButterflies-Mary-July13.jpg
ORGANIZER;CN="Board of Directors":MAILTO:info@desertinsight.org
GEO:33.8163206;-116.5275763
X-APPLE-STRUCTURED-LOCATION;VALUE=URI;X-ADDRESS=Mizell Center 480 S. Sunrise Way Palm Springs CA 92262 United States;X-APPLE-RADIUS=500;X-TITLE=480 S. Sunrise Way:geo:-116.5275763,33.8163206
END:VEVENT
BEGIN:VEVENT
DTSTART;TZID=America/Los_Angeles:20250720T103000
DTEND;TZID=America/Los_Angeles:20250720T120000
DTSTAMP:20260419T162125
CREATED:20250713T213928Z
LAST-MODIFIED:20250713T214040Z
UID:10003102-1753007400-1753012800@desertinsight.org
SUMMARY:Meditation and Dharma Talk with Beth Mulligan - IN-PERSON & ONLINE
DESCRIPTION:This Sunday Meditation and Dharma Talk will be held from 10:30 a.m. until noon **In-Person at the Mizell Center** and simultaneously live *Online via Zoom*. Everyone is welcome. \nThere will be time for meditation\, a dharma (teaching) talk by one of our regular or guest teachers\, and time for your comments and questions. \nAbout the Teacher: Beth Mulligan \nDana \nCost: Donation basis. There is no charge to attend the Sunday Meditation and Dharma Talk. Please consider making a donation at desertinsight.org to support our teachers and community. Please give from your ability and heart. \nDirections to the Sunday In-Person Sit: \nMizell Center\, 480 S Sunrise Way\, Palm Springs\, CA 92262 \nGoogle Maps \nJoin Zoom Meetinghttps://us02web.zoom.us/j/81581516374?pwd=ck05SElLelNLeU80ek44UnZuQjhsZz09Meeting ID: 815 8151 6374Passcode: ICDOne tap mobile+16694449171\,\,81581516374# US+16699009128\,\,81581516374# US (San Jose)Dial by your location        +1 669 444 9171 US        +1 669 900 9128 US (San Jose)        +1 346 248 7799 US (Houston)        +1 719 359 4580 US        +1 253 205 0468 US        +1 253 215 8782 US (Tacoma)        +1 386 347 5053 US        +1 507 473 4847 US        +1 564 217 2000 US        +1 646 558 8656 US (New York)        +1 646 931 3860 US        +1 689 278 1000 US        +1 301 715 8592 US (Washington DC)        +1 305 224 1968 US        +1 309 205 3325 US        +1 312 626 6799 US (Chicago)        +1 360 209 5623 USMeeting ID: 815 8151 6374
URL:https://desertinsight.org/event/meditation-and-dharma-talk-2025-07-20/
LOCATION:Mizell Center\, 480 S. Sunrise Way\, Palm Springs\, CA\, 92262\, United States
CATEGORIES:Featured,Recurring,Regular Events,Sundays
ATTACH;FMTTYPE=image/jpeg:https://desertinsight.org/wp-content/uploads/2025/07/Candles-Beth-July20.jpg
ORGANIZER;CN="Board of Directors":MAILTO:info@desertinsight.org
GEO:33.8163206;-116.5275763
X-APPLE-STRUCTURED-LOCATION;VALUE=URI;X-ADDRESS=Mizell Center 480 S. Sunrise Way Palm Springs CA 92262 United States;X-APPLE-RADIUS=500;X-TITLE=480 S. Sunrise Way:geo:-116.5275763,33.8163206
END:VEVENT
BEGIN:VEVENT
DTSTART;TZID=America/Los_Angeles:20250727T103000
DTEND;TZID=America/Los_Angeles:20250727T120000
DTSTAMP:20260419T162125
CREATED:20250713T213548Z
LAST-MODIFIED:20250713T214141Z
UID:10003100-1753612200-1753617600@desertinsight.org
SUMMARY:Meditation and Dharma Talk with Mary Stancavage - IN-PERSON & ONLINE
DESCRIPTION:This Sunday Meditation and Dharma Talk will be held from 10:30 a.m. until noon **In-Person at the Mizell Center** and simultaneously live *Online via Zoom*. Everyone is welcome. \nThere will be time for meditation\, a dharma (teaching) talk by one of our regular or guest teachers\, and time for your comments and questions. \nAbout the Teacher: Mary Stancavage \nDana \nCost: Donation basis. There is no charge to attend the Sunday Meditation and Dharma Talk. Please consider making a donation at desertinsight.org to support our teachers and community. Please give from your ability and heart. \nDirections to the Sunday In-Person Sit: \nMizell Center\, 480 S Sunrise Way\, Palm Springs\, CA 92262 \nGoogle Maps \nJoin Zoom Meetinghttps://us02web.zoom.us/j/81581516374?pwd=ck05SElLelNLeU80ek44UnZuQjhsZz09Meeting ID: 815 8151 6374Passcode: ICDOne tap mobile+16694449171\,\,81581516374# US+16699009128\,\,81581516374# US (San Jose)Dial by your location        +1 669 444 9171 US        +1 669 900 9128 US (San Jose)        +1 346 248 7799 US (Houston)        +1 719 359 4580 US        +1 253 205 0468 US        +1 253 215 8782 US (Tacoma)        +1 386 347 5053 US        +1 507 473 4847 US        +1 564 217 2000 US        +1 646 558 8656 US (New York)        +1 646 931 3860 US        +1 689 278 1000 US        +1 301 715 8592 US (Washington DC)        +1 305 224 1968 US        +1 309 205 3325 US        +1 312 626 6799 US (Chicago)        +1 360 209 5623 USMeeting ID: 815 8151 6374
URL:https://desertinsight.org/event/meditation-and-dharma-talk-2025-07-27/
LOCATION:Mizell Center\, 480 S. Sunrise Way\, Palm Springs\, CA\, 92262\, United States
CATEGORIES:Featured,Recurring,Regular Events,Sundays
ATTACH;FMTTYPE=image/jpeg:https://desertinsight.org/wp-content/uploads/2025/07/pexels-gu-bra-Mary-July27.jpg
ORGANIZER;CN="Board of Directors":MAILTO:info@desertinsight.org
GEO:33.8163206;-116.5275763
X-APPLE-STRUCTURED-LOCATION;VALUE=URI;X-ADDRESS=Mizell Center 480 S. Sunrise Way Palm Springs CA 92262 United States;X-APPLE-RADIUS=500;X-TITLE=480 S. Sunrise Way:geo:-116.5275763,33.8163206
END:VEVENT
END:VCALENDAR